BEGIN:VCALENDAR
VERSION:2.0
PRODID:-//Karin Würth - Achtsam glücklich - ECPv6.15.16.1//NONSGML v1.0//EN
CALSCALE:GREGORIAN
METHOD:PUBLISH
X-ORIGINAL-URL:https://karinwuerth.at
X-WR-CALDESC:Veranstaltungen für Karin Würth - Achtsam glücklich
REFRESH-INTERVAL;VALUE=DURATION:PT1H
X-Robots-Tag:noindex
X-PUBLISHED-TTL:PT1H
BEGIN:VTIMEZONE
TZID:Europe/Vienna
BEGIN:DAYLIGHT
TZOFFSETFROM:+0100
TZOFFSETTO:+0200
TZNAME:CEST
DTSTART:20250330T010000
END:DAYLIGHT
BEGIN:STANDARD
TZOFFSETFROM:+0200
TZOFFSETTO:+0100
TZNAME:CET
DTSTART:20251026T010000
END:STANDARD
BEGIN:DAYLIGHT
TZOFFSETFROM:+0100
TZOFFSETTO:+0200
TZNAME:CEST
DTSTART:20260329T010000
END:DAYLIGHT
BEGIN:STANDARD
TZOFFSETFROM:+0200
TZOFFSETTO:+0100
TZNAME:CET
DTSTART:20261025T010000
END:STANDARD
BEGIN:DAYLIGHT
TZOFFSETFROM:+0100
TZOFFSETTO:+0200
TZNAME:CEST
DTSTART:20270328T010000
END:DAYLIGHT
BEGIN:STANDARD
TZOFFSETFROM:+0200
TZOFFSETTO:+0100
TZNAME:CET
DTSTART:20271031T010000
END:STANDARD
END:VTIMEZONE
BEGIN:VEVENT
DTSTART;VALUE=DATE:20260101
DTEND;VALUE=DATE:20270101
DTSTAMP:20260421T231838
CREATED:20240305T102608Z
LAST-MODIFIED:20260119T144323Z
UID:1027-1767225600-1798761599@karinwuerth.at
SUMMARY:Achtsamkeits-Training als Einzelunterricht
DESCRIPTION:Achtsamkeits-Training als Einzelunterricht\nPersönlich und individuell.\nInhalte\, Zeiten und Dauer kann ganz individuell auf deine Bedürfnisse zugeschnitten werden. In meiner Praxis\, online\, oder bei Dir zu Hause.\nKosten auf Anfrage.
URL:https://karinwuerth.at/termin/achtsamkeits-training-als-einzelunterricht/
LOCATION:Gemeinschaft B.R.O.T. Kalksburg\, Promenadeweg 5\, Wien\, 1230\, Austria
CATEGORIES:Coaching,MBSR
ATTACH;FMTTYPE=image/webp:https://karinwuerth.at/wp-content/uploads/2024/11/miriammehlman_20240318_karinwuerth0109-min.webp
END:VEVENT
END:VCALENDAR