BEGIN:VCALENDAR
VERSION:2.0
PRODID:-//Karin Würth - Achtsam glücklich - ECPv6.15.16.1//NONSGML v1.0//EN
CALSCALE:GREGORIAN
METHOD:PUBLISH
X-ORIGINAL-URL:https://karinwuerth.at
X-WR-CALDESC:Veranstaltungen für Karin Würth - Achtsam glücklich
REFRESH-INTERVAL;VALUE=DURATION:PT1H
X-Robots-Tag:noindex
X-PUBLISHED-TTL:PT1H
BEGIN:VTIMEZONE
TZID:Europe/Vienna
BEGIN:DAYLIGHT
TZOFFSETFROM:+0100
TZOFFSETTO:+0200
TZNAME:CEST
DTSTART:20250330T010000
END:DAYLIGHT
BEGIN:STANDARD
TZOFFSETFROM:+0200
TZOFFSETTO:+0100
TZNAME:CET
DTSTART:20251026T010000
END:STANDARD
BEGIN:DAYLIGHT
TZOFFSETFROM:+0100
TZOFFSETTO:+0200
TZNAME:CEST
DTSTART:20260329T010000
END:DAYLIGHT
BEGIN:STANDARD
TZOFFSETFROM:+0200
TZOFFSETTO:+0100
TZNAME:CET
DTSTART:20261025T010000
END:STANDARD
BEGIN:DAYLIGHT
TZOFFSETFROM:+0100
TZOFFSETTO:+0200
TZNAME:CEST
DTSTART:20270328T010000
END:DAYLIGHT
BEGIN:STANDARD
TZOFFSETFROM:+0200
TZOFFSETTO:+0100
TZNAME:CET
DTSTART:20271031T010000
END:STANDARD
END:VTIMEZONE
BEGIN:VEVENT
DTSTART;TZID=Europe/Vienna:20260113T180000
DTEND;TZID=Europe/Vienna:20260303T203000
DTSTAMP:20260420T154032
CREATED:20250109T135821Z
LAST-MODIFIED:20251021T100224Z
UID:393033-1768327200-1772569800@karinwuerth.at
SUMMARY:MBSR 8 Wochen Kurs online per Zoom
DESCRIPTION:13. Jänner – 3. März 2026 | Online per Zoom\nErlebe die transformative Kraft der Achtsamkeit in meinem 8-wöchigen MBSR-Kurs (Mindfulness-Based Stress Reduction). Dieser Kurs bietet dir die Möglichkeit\, Stress abzubauen\, innere Ruhe zu finden und den Herausforderungen des Lebens gelassener zu begegnen. Erlerne Achtsamkeit mit dem Online-Gruppenkurs bequem von Zuhause aus! \nKursdetails\n\nTermine: 8 wöchentliche Termine\, jeweils dienstags\nStartdatum: 13. Jänner 2026\nEnddatum: 3. März 2026\nUhrzeit: 18:00 – 20:30 Uhr\nOnline: per Zoom\n\nWas erwartet dich?\n\nEinführung in Achtsamkeitstechniken wie Meditation\, achtsames Yoga und Stressbewältigung\nPraktische Übungen\, die leicht in den Alltag integriert werden können\nRaum für Austausch und persönliche Reflexion\n\nFür wen ist der Kurs geeignet?\nDieser Kurs ist ideal für dich\, wenn du… \n\ndich oft gestresst fühlst und lernen möchtest\, besser damit umzugehen\,\nmehr innere Ruhe und Klarheit in dein Leben bringen willst\,\nMeditation erlernen und in deinen Alltag integrieren willst\,\nachtsamer und freundlicher mit dir selbst und anderen umgehen möchtest.\n\nKosten und Anmeldung\n\nKosten: 380 Euro (inkl. Kursunterlagen und Audio-Anleitungen)\nAnmeldung: ab sofort möglich\n\nIch freue mich darauf\, dich auf deinem Weg zu mehr Gelassenheit\, Präsenz und Lebensfreude zu begleiten. \nZur Anmeldung
URL:https://karinwuerth.at/termin/mbsr-8-wochen-kurs-online/
LOCATION:Online
CATEGORIES:MBSR
ATTACH;FMTTYPE=image/webp:https://karinwuerth.at/wp-content/uploads/2024/11/miriammehlman_20240318_karinwuerth0461-min.webp
END:VEVENT
BEGIN:VEVENT
DTSTART;TZID=Europe/Vienna:20260307T100000
DTEND;TZID=Europe/Vienna:20260307T163000
DTSTAMP:20260420T154032
CREATED:20260105T100313Z
LAST-MODIFIED:20260119T141933Z
UID:1008-1772877600-1772901000@karinwuerth.at
SUMMARY:Achtsamkeits-Tag
DESCRIPTION:Achtsamkeits-Tag\nStille\, Entschleunigung\, Atempause.\nGenieße einen Tag in Stille\, ganz bei dir selbst und geborgen in der Gruppe.\nMit Achtsamkeitsübungen aus dem MBSR Programm und achtsamem Erleben in der Natur. \nMittagssnack bitte selbst mitbringen.\nKeine Vorerfahrung erforderlich. \nTermin: 7. März 2026\, 10:00 – ca. 16:30\nOrt: B.R.O.T. Kalksburg\, Promenadeweg 5\, 1230 Wien\nKosten: 85\,- Euro \nWeitere Termine: 17. Mai 2026\, 13. Juni 2026
URL:https://karinwuerth.at/termin/achtsamkeits-tag/
LOCATION:Gemeinschaft B.R.O.T. Kalksburg\, Promenadeweg 5\, Wien\, 1230\, Austria
CATEGORIES:Tages-Workshops
ATTACH;FMTTYPE=image/jpeg:https://karinwuerth.at/wp-content/uploads/2024/03/3.jpg
END:VEVENT
BEGIN:VEVENT
DTSTART;TZID=Europe/Vienna:20260315T140000
DTEND;TZID=Europe/Vienna:20260315T163000
DTSTAMP:20260420T154032
CREATED:20260103T163512Z
LAST-MODIFIED:20260119T144507Z
UID:393096-1773583200-1773592200@karinwuerth.at
SUMMARY:Spaziergang in Achtsamkeit
DESCRIPTION:Spaziergang in Achtsamkeit\nMit allen Sinnen in der Natur und bei sich.\nBei einem Spaziergang genießen wir den Augenblick und erleben die Natur mit allen Sinnen. \nMit Meditation im Gehen und Sitzen und anderen Achtsamkeitsübungen. \nTermin: 15. März 2026  um 14:00 – 16:30\nTreffpunkt: Gemeinschaft B.R.O.T. Kalksburg\, Promenadeweg 5\, 1230 Wien\nAnmeldung bitte bis spätestens 1 Woche vor Termin.\nKosten: 45\,- Euro
URL:https://karinwuerth.at/termin/spaziergang-in-achtsamkeit-4/
LOCATION:Gemeinschaft B.R.O.T. Kalksburg\, Promenadeweg 5\, Wien\, 1230\, Austria
CATEGORIES:Tages-Workshops
ATTACH;FMTTYPE=image/webp:https://karinwuerth.at/wp-content/uploads/2024/11/flowers-7085710_1920-min.webp
END:VEVENT
END:VCALENDAR